BEGIN:VCALENDAR
VERSION:2.0
PRODID:-//MBI Worldwide Geodata - ECPv6.15.20//NONSGML v1.0//EN
CALSCALE:GREGORIAN
METHOD:PUBLISH
X-WR-CALNAME:MBI Worldwide Geodata
X-ORIGINAL-URL:https://www.mbi-geodata.com/en
X-WR-CALDESC:Events for MBI Worldwide Geodata
REFRESH-INTERVAL;VALUE=DURATION:PT1H
X-Robots-Tag:noindex
X-PUBLISHED-TTL:PT1H
BEGIN:VTIMEZONE
TZID:Europe/Berlin
BEGIN:DAYLIGHT
TZOFFSETFROM:+0100
TZOFFSETTO:+0200
TZNAME:CEST
DTSTART:20230326T010000
END:DAYLIGHT
BEGIN:STANDARD
TZOFFSETFROM:+0200
TZOFFSETTO:+0100
TZNAME:CET
DTSTART:20231029T010000
END:STANDARD
BEGIN:DAYLIGHT
TZOFFSETFROM:+0100
TZOFFSETTO:+0200
TZNAME:CEST
DTSTART:20240331T010000
END:DAYLIGHT
BEGIN:STANDARD
TZOFFSETFROM:+0200
TZOFFSETTO:+0100
TZNAME:CET
DTSTART:20241027T010000
END:STANDARD
BEGIN:DAYLIGHT
TZOFFSETFROM:+0100
TZOFFSETTO:+0200
TZNAME:CEST
DTSTART:20250330T010000
END:DAYLIGHT
BEGIN:STANDARD
TZOFFSETFROM:+0200
TZOFFSETTO:+0100
TZNAME:CET
DTSTART:20251026T010000
END:STANDARD
END:VTIMEZONE
BEGIN:VEVENT
DTSTART;TZID=Europe/Berlin:20241106T000000
DTEND;TZID=Europe/Berlin:20241107T235959
DTSTAMP:20260423T004321
CREATED:20241022T110303Z
LAST-MODIFIED:20241023T111256Z
UID:17881-1730851200-1731023999@www.mbi-geodata.com
SUMMARY:MBI at HERE Directions 2024
DESCRIPTION:Join Us in Building a Connected and Sustainable Future with Location Technology \n\n\n\nMBI is excited to announce that we will be attending HERE Directions 2024 as a proud HERE partner and distributor! This highly anticipated event will take place on November 6-7\, 2024\, in Dreieich\, Frankfurt am Main\, and promises to showcase the latest innovations in location technology. \n\n\n\nAs one of the largest providers of geodata and a long-standing HERE distributor\, we are eager to connect with industry experts and professionals at the forefront of location technology. Meet us there\, and we will help you explore tailored solutions for your business using the latest HERE technologies. \n\n\n\nWhy attend HERE Directions 2024? \n\n\n\n\nInspiring keynotes: hear from high-profile speakers on trending topics such as software-defined vehicles\, end-to-end logistics planning and the electrification of mobility\n\n\n\nNetworking opportunities: engage with industry peers\, HERE executives and experts during our networking lunch and dedicated sessions\n\n\n\nLive demos: experience firsthand the cutting-edge technologies that are driving innovation\, with live demos from HERE\, our partners and real-world customer success stories\n\n\n\n\nDon’t miss: \n\n\n\n… the Panel Discussion\, where our CEO\, Ray Roberts-York\, will join other experts to explore the transformative role of AI in location technology and how it’s driving innovation across the industry. \n\n\n\n… the Partner Workshop: On November 7\, from 14:30-16:00\, MBI will participate in the Partner Workshop\, where you’ll get updates on HERE’s Partner Program\, learn about innovative solutions built with HERE technology\, and hear success stories from leading partners. \n\n\n\n\n\n \n\n\n\n\n\n \nshare
URL:https://www.mbi-geodata.com/en/event/mbi-at-here-directions-2024/
LOCATION:area3\, Hans Strothoff Platz 1\, Dreieich\, 63303\, Germany
ATTACH;FMTTYPE=image/jpeg:https://www.mbi-geodata.com/en/wp-content/uploads/sites/3/2024/10/HERE_directions_team.jpeg
END:VEVENT
BEGIN:VEVENT
DTSTART;TZID=Europe/Berlin:20241114T000000
DTEND;TZID=Europe/Berlin:20241114T235959
DTSTAMP:20260423T004321
CREATED:20241024T105958Z
LAST-MODIFIED:20241030T113626Z
UID:17897-1731542400-1731628799@www.mbi-geodata.com
SUMMARY:GeoBuiz Summit 2024
DESCRIPTION:We are looking forward to the GeoBuiz Summit Europe 2024 on 14 November at Novotel\, Amsterdam! This exclusive event\, themed “Powering the Geo-Space Economy\,” brings together top C-level executives from across the European geospatial industry to explore new market opportunities and innovations. Our CEO Ray Roberts-York is looking forward to connecting with industry peers and exploring how we can contribute to shaping the future of the Geo-Space Economy. See you there! \n\n\n\n\n\n \n\n\n\n\n\n \nshare
URL:https://www.mbi-geodata.com/en/event/geobuiz-summit-2024/
LOCATION:Hotel Novotel Amsterdam City\, Europaboulevard 10\, Amsterdam\, 1083 AD
ATTACH;FMTTYPE=image/jpeg:https://www.mbi-geodata.com/en/wp-content/uploads/sites/3/2024/10/GeoBuiz_2024.jpg
END:VEVENT
BEGIN:VEVENT
DTSTART;TZID=Europe/Berlin:20241127T000000
DTEND;TZID=Europe/Berlin:20241128T235959
DTSTAMP:20260423T004321
CREATED:20241030T113017Z
LAST-MODIFIED:20241030T113428Z
UID:17913-1732665600-1732838399@www.mbi-geodata.com
SUMMARY:Esri Conference 2024
DESCRIPTION:MBI is excited to attend the Esri Conference 2024\, the largest German-speaking GIS conference! Our team looks forward to connecting with industry experts and showcasing how our advanced geodata offering can enhance your GIS and Location Intelligence needs. Join us to discover the latest developments in Mapping\, Spatial Analytics\, GeoAI\, 3D-GIS\, and Digital Twins. Whether you’re interested in learning about new data solutions or discussing industry trends\, we’re eager to meet and collaborate with you in Bonn. See you there! \n\n\n\n\n\n \n\n\n\n\n\n \nshare
URL:https://www.mbi-geodata.com/en/event/esri-conference-2024/
LOCATION:World Conference Center Bonn\, Platz d. Vereinten Nationen 2\, Bonn\, 53113\, Germany
ATTACH;FMTTYPE=image/jpeg:https://www.mbi-geodata.com/en/wp-content/uploads/sites/3/2024/10/Esri_Konferenz_2024.jpg
END:VEVENT
END:VCALENDAR