BEGIN:VCALENDAR
VERSION:2.0
PRODID:-//MBI Worldwide Geodata - ECPv6.15.20//NONSGML v1.0//EN
CALSCALE:GREGORIAN
METHOD:PUBLISH
X-WR-CALNAME:MBI Worldwide Geodata
X-ORIGINAL-URL:https://www.mbi-geodata.com/en
X-WR-CALDESC:Events for MBI Worldwide Geodata
REFRESH-INTERVAL;VALUE=DURATION:PT1H
X-Robots-Tag:noindex
X-PUBLISHED-TTL:PT1H
BEGIN:VTIMEZONE
TZID:Europe/Berlin
BEGIN:DAYLIGHT
TZOFFSETFROM:+0100
TZOFFSETTO:+0200
TZNAME:CEST
DTSTART:20230326T010000
END:DAYLIGHT
BEGIN:STANDARD
TZOFFSETFROM:+0200
TZOFFSETTO:+0100
TZNAME:CET
DTSTART:20231029T010000
END:STANDARD
BEGIN:DAYLIGHT
TZOFFSETFROM:+0100
TZOFFSETTO:+0200
TZNAME:CEST
DTSTART:20240331T010000
END:DAYLIGHT
BEGIN:STANDARD
TZOFFSETFROM:+0200
TZOFFSETTO:+0100
TZNAME:CET
DTSTART:20241027T010000
END:STANDARD
BEGIN:DAYLIGHT
TZOFFSETFROM:+0100
TZOFFSETTO:+0200
TZNAME:CEST
DTSTART:20250330T010000
END:DAYLIGHT
BEGIN:STANDARD
TZOFFSETFROM:+0200
TZOFFSETTO:+0100
TZNAME:CET
DTSTART:20251026T010000
END:STANDARD
END:VTIMEZONE
BEGIN:VEVENT
DTSTART;TZID=Europe/Berlin:20241009T000000
DTEND;TZID=Europe/Berlin:20241010T235959
DTSTAMP:20260423T020409
CREATED:20240210T020258Z
LAST-MODIFIED:20240210T020507Z
UID:16178-1728432000-1728604799@www.mbi-geodata.com
SUMMARY:Logistics Summit 2024
DESCRIPTION:Meet us at the logistics trade fair Logistics Summit 2024 in Düsseldorf\, Germany. Join us to discover the latest innovations\, trends and possible answers from different vendors to the problems you are facing today. At MBI\, we look forward to working with you to drive innovation. Let us realize the logistics solutions of the future with the help of our globally consistent and comparable data spectrum. \n\n\n\n\n\n \n\n\nshare
URL:https://www.mbi-geodata.com/en/event/logistics-summit-2024/
LOCATION:Areal Böhler\, Hansaallee 321\, Düsseldorf\, 40549\, Germany
ATTACH;FMTTYPE=image/jpeg:https://www.mbi-geodata.com/en/wp-content/uploads/sites/3/2024/02/Logistics_Summit_2024.jpg
END:VEVENT
END:VCALENDAR