BEGIN:VCALENDAR
VERSION:2.0
PRODID:-//MBI Worldwide Geodata - ECPv6.15.20//NONSGML v1.0//EN
CALSCALE:GREGORIAN
METHOD:PUBLISH
X-ORIGINAL-URL:https://www.mbi-geodata.com/en
X-WR-CALDESC:Events for MBI Worldwide Geodata
REFRESH-INTERVAL;VALUE=DURATION:PT1H
X-Robots-Tag:noindex
X-PUBLISHED-TTL:PT1H
BEGIN:VTIMEZONE
TZID:Europe/Berlin
BEGIN:DAYLIGHT
TZOFFSETFROM:+0100
TZOFFSETTO:+0200
TZNAME:CEST
DTSTART:20230326T010000
END:DAYLIGHT
BEGIN:STANDARD
TZOFFSETFROM:+0200
TZOFFSETTO:+0100
TZNAME:CET
DTSTART:20231029T010000
END:STANDARD
BEGIN:DAYLIGHT
TZOFFSETFROM:+0100
TZOFFSETTO:+0200
TZNAME:CEST
DTSTART:20240331T010000
END:DAYLIGHT
BEGIN:STANDARD
TZOFFSETFROM:+0200
TZOFFSETTO:+0100
TZNAME:CET
DTSTART:20241027T010000
END:STANDARD
BEGIN:DAYLIGHT
TZOFFSETFROM:+0100
TZOFFSETTO:+0200
TZNAME:CEST
DTSTART:20250330T010000
END:DAYLIGHT
BEGIN:STANDARD
TZOFFSETFROM:+0200
TZOFFSETTO:+0100
TZNAME:CET
DTSTART:20251026T010000
END:STANDARD
END:VTIMEZONE
BEGIN:VEVENT
DTSTART;TZID=Europe/Berlin:20240715T000000
DTEND;TZID=Europe/Berlin:20240719T235959
DTSTAMP:20260423T063718
CREATED:20240212T173753Z
LAST-MODIFIED:20240702T141957Z
UID:16170-1721001600-1721433599@www.mbi-geodata.com
SUMMARY:Esri UC 2024
DESCRIPTION:We are pleased to once again be an exhibitor and partner at Esri User Conference 2024: the largest GIS conference in the world. We invite you to explore our ever-expanding global data offering in the areas of socio-demographics\, purchasing power\, area boundaries\, mobile trace and political risk\, as well as the HERE portfolio. Our experts will be on hand to answer your questions and introduce you to our GIS-based products and services. \n\n\n\n\n\n\n\n\n\n\n\n\n\n\n\n\n\n\n\nOver five days\, you will have the opportunity to \n\n\n\n\nCollaborate and learn in a dynamic environment by attending user presentations and interactive workshops.\n\n\n\nMeet face-to-face with Esri experts to ask questions\, exchange ideas\, and find ways to advance your business.\n\n\n\nExplore exhibits from innovative GIS solution providers to network with other GIS users and experts from your region and industry.\n\n\n\n\nRay Roberts-York and Andreas Wenzel will be representing MBI at Esri UC 2024 and look forward to meeting you if you plan to attend. The picture shows them with the MBR team\, with Andreas on the far left and Ray on the far right. You can use the button to make an appointment or just drop by our booth 726. \n\n\n\n\nSchedule a Meeting\n\n\n\n\n\n\n\n\n \n\n\n\n\n\n\nshare
URL:https://www.mbi-geodata.com/en/event/esri-uc-2024/
LOCATION:San Diego Convention Center\, 111 W. Harbor Drive\, San Diego\, California\, 92101\, United States
ATTACH;FMTTYPE=image/jpeg:https://www.mbi-geodata.com/en/wp-content/uploads/sites/3/2024/02/ESRI-UC_2024.jpg
END:VEVENT
END:VCALENDAR