BEGIN:VCALENDAR
VERSION:2.0
PRODID:-//MBI Worldwide Geodata - ECPv6.15.20//NONSGML v1.0//EN
CALSCALE:GREGORIAN
METHOD:PUBLISH
X-WR-CALNAME:MBI Worldwide Geodata
X-ORIGINAL-URL:https://www.mbi-geodata.com/en
X-WR-CALDESC:Events for MBI Worldwide Geodata
REFRESH-INTERVAL;VALUE=DURATION:PT1H
X-Robots-Tag:noindex
X-PUBLISHED-TTL:PT1H
BEGIN:VTIMEZONE
TZID:Europe/Berlin
BEGIN:DAYLIGHT
TZOFFSETFROM:+0100
TZOFFSETTO:+0200
TZNAME:CEST
DTSTART:20230326T010000
END:DAYLIGHT
BEGIN:STANDARD
TZOFFSETFROM:+0200
TZOFFSETTO:+0100
TZNAME:CET
DTSTART:20231029T010000
END:STANDARD
BEGIN:DAYLIGHT
TZOFFSETFROM:+0100
TZOFFSETTO:+0200
TZNAME:CEST
DTSTART:20240331T010000
END:DAYLIGHT
BEGIN:STANDARD
TZOFFSETFROM:+0200
TZOFFSETTO:+0100
TZNAME:CET
DTSTART:20241027T010000
END:STANDARD
BEGIN:DAYLIGHT
TZOFFSETFROM:+0100
TZOFFSETTO:+0200
TZNAME:CEST
DTSTART:20250330T010000
END:DAYLIGHT
BEGIN:STANDARD
TZOFFSETFROM:+0200
TZOFFSETTO:+0100
TZNAME:CET
DTSTART:20251026T010000
END:STANDARD
END:VTIMEZONE
BEGIN:VEVENT
DTSTART;TZID=Europe/Berlin:20240611T110000
DTEND;TZID=Europe/Berlin:20240611T234500
DTSTAMP:20260423T081327
CREATED:20240605T104159Z
LAST-MODIFIED:20240605T104515Z
UID:17079-1718103600-1718149500@www.mbi-geodata.com
SUMMARY:Webinar – Managing Geopolitical Risk: Five Tips (German)
DESCRIPTION:Global supply chains and international relationships offer great opportunities for your business to grow dynamically. At the same time\, they bring with them geopolitical risks that can quickly become serious threats to your business. But how can you identify these risks early and manage them effectively? \n\n\n\nWebinar Content:\n\n\n\nOur interactive webinar in German will provide you with valuable insights on the following topics \n\n\n\n\nEarly identification of geopolitical risks\n\n\n\nTransparently assess the potential impact on your business\n\n\n\nDeveloping effective strategies to mitigate risk\n\n\n\nAvoid common pitfalls and mistakes\n\n\n\nHow to position your company for the future and capitalize on opportunities\n\n\n\n\nDr. Nicolas Schwank\, Chief Data Analyst at MBI and a seasoned expert on conflict and risk\, will provide you with practical tips. Based on his extensive consulting experience with institutions such as the European Union and leading companies in the insurance and automotive sectors\, Dr. Schwank will provide valuable insights into sound\, systematic and thorough risk management. \n\n\n\nTake this opportunity to better prepare your organization for geopolitical risk and learn effective risk management strategies first-hand. You can look forward to getting answers to the political risk questions you have always been interested in. \n\n\n\nWe are happy to have you join us! \n\n\n\n\nClick to Register\n\n\n\n\n \nshare
URL:https://www.mbi-geodata.com/en/event/webinar-managing-geopolitical-risk-five-tips-german/
ATTACH;FMTTYPE=image/png:https://www.mbi-geodata.com/en/wp-content/uploads/sites/3/2024/02/World-and-Conflicts.png
END:VEVENT
END:VCALENDAR