BEGIN:VCALENDAR
VERSION:2.0
PRODID:-//MBI Worldwide Geodata - ECPv6.15.20//NONSGML v1.0//EN
CALSCALE:GREGORIAN
METHOD:PUBLISH
X-WR-CALNAME:MBI Worldwide Geodata
X-ORIGINAL-URL:https://www.mbi-geodata.com/en
X-WR-CALDESC:Events for MBI Worldwide Geodata
REFRESH-INTERVAL;VALUE=DURATION:PT1H
X-Robots-Tag:noindex
X-PUBLISHED-TTL:PT1H
BEGIN:VTIMEZONE
TZID:Europe/Berlin
BEGIN:DAYLIGHT
TZOFFSETFROM:+0100
TZOFFSETTO:+0200
TZNAME:CEST
DTSTART:20230326T010000
END:DAYLIGHT
BEGIN:STANDARD
TZOFFSETFROM:+0200
TZOFFSETTO:+0100
TZNAME:CET
DTSTART:20231029T010000
END:STANDARD
BEGIN:DAYLIGHT
TZOFFSETFROM:+0100
TZOFFSETTO:+0200
TZNAME:CEST
DTSTART:20240331T010000
END:DAYLIGHT
BEGIN:STANDARD
TZOFFSETFROM:+0200
TZOFFSETTO:+0100
TZNAME:CET
DTSTART:20241027T010000
END:STANDARD
BEGIN:DAYLIGHT
TZOFFSETFROM:+0100
TZOFFSETTO:+0200
TZNAME:CEST
DTSTART:20250330T010000
END:DAYLIGHT
BEGIN:STANDARD
TZOFFSETFROM:+0200
TZOFFSETTO:+0100
TZNAME:CET
DTSTART:20251026T010000
END:STANDARD
END:VTIMEZONE
BEGIN:VEVENT
DTSTART;TZID=Europe/Berlin:20240519T000000
DTEND;TZID=Europe/Berlin:20240521T235959
DTSTAMP:20260423T100758
CREATED:20240216T154009Z
LAST-MODIFIED:20240216T154013Z
UID:16209-1716076800-1716335999@www.mbi-geodata.com
SUMMARY:LogiMAT 2024
DESCRIPTION:Will we see you at LogiMAT 2024? MBI is looking forward to the international trade show for intralogistics solutions and process management. The trade fair offers visitors a comprehensive market overview and expert knowledge transfer on topics such as: \n\n\n\n\nSustainability and AI in materials management\n\n\n\nIT control from purchasing to production and delivery\n\n\n\nEfficient and secure handling of the raw material of the future – data\n\n\n\n\nOur extensive range of data has already enabled many customers to find efficient and future-proof solutions in precisely these areas. That’s why we’re pleased to offer you the opportunity to discover our products in person at the trade show through a personal conversation. \n\n\n\n\n\n \n\n\n\n\nEvent Website\n\n\n\n\n \n\n\n\n \nshare
URL:https://www.mbi-geodata.com/en/event/logimat-2024/
LOCATION:Messe Stuttgart\, Messepiazza 1\, Stuttgart\, Baden-Württemberg\, 70629\, Germany
ATTACH;FMTTYPE=image/jpeg:https://www.mbi-geodata.com/en/wp-content/uploads/sites/3/2024/02/LogiMAT_2024.jpg
END:VEVENT
BEGIN:VEVENT
DTSTART;TZID=Europe/Berlin:20240522T000000
DTEND;TZID=Europe/Berlin:20240523T235959
DTSTAMP:20260423T100758
CREATED:20240216T172607Z
LAST-MODIFIED:20240216T172904Z
UID:16220-1716336000-1716508799@www.mbi-geodata.com
SUMMARY:Cloud Expo Europe 2024
DESCRIPTION:Cloud Expo Europe 2024 in Frankfurt is worth a visit! That’s why MBI will be there. As a leading provider of geospatial data\, we look forward to exploring the latest trends and innovations in cloud technology. Let’s connect and discuss how our geodata solutions can enhance your business strategies. See you there! \n\n\n\n\n\n \n\n\n\n\nEvent Website\n\n\n\n\n \nshare
URL:https://www.mbi-geodata.com/en/event/cloud-expo-europe-2024/
LOCATION:Messe Frankfurt Halle 8\, Ludwig-Erhard-Anlage 1\, Frankfurt am Main\, 60327\, Germany
ATTACH;FMTTYPE=image/jpeg:https://www.mbi-geodata.com/en/wp-content/uploads/sites/3/2024/02/Cloud_Expo_Europe_2024.jpg
END:VEVENT
END:VCALENDAR