BEGIN:VCALENDAR
VERSION:2.0
PRODID:-//MBI Worldwide Geodata - ECPv6.15.20//NONSGML v1.0//EN
CALSCALE:GREGORIAN
METHOD:PUBLISH
X-WR-CALNAME:MBI Worldwide Geodata
X-ORIGINAL-URL:https://www.mbi-geodata.com/en
X-WR-CALDESC:Events for MBI Worldwide Geodata
REFRESH-INTERVAL;VALUE=DURATION:PT1H
X-Robots-Tag:noindex
X-PUBLISHED-TTL:PT1H
BEGIN:VTIMEZONE
TZID:Europe/Berlin
BEGIN:DAYLIGHT
TZOFFSETFROM:+0100
TZOFFSETTO:+0200
TZNAME:CEST
DTSTART:20220327T010000
END:DAYLIGHT
BEGIN:STANDARD
TZOFFSETFROM:+0200
TZOFFSETTO:+0100
TZNAME:CET
DTSTART:20221030T010000
END:STANDARD
BEGIN:DAYLIGHT
TZOFFSETFROM:+0100
TZOFFSETTO:+0200
TZNAME:CEST
DTSTART:20230326T010000
END:DAYLIGHT
BEGIN:STANDARD
TZOFFSETFROM:+0200
TZOFFSETTO:+0100
TZNAME:CET
DTSTART:20231029T010000
END:STANDARD
BEGIN:DAYLIGHT
TZOFFSETFROM:+0100
TZOFFSETTO:+0200
TZNAME:CEST
DTSTART:20240331T010000
END:DAYLIGHT
BEGIN:STANDARD
TZOFFSETFROM:+0200
TZOFFSETTO:+0100
TZNAME:CET
DTSTART:20241027T010000
END:STANDARD
END:VTIMEZONE
BEGIN:VEVENT
DTSTART;TZID=Europe/Berlin:20230921T000000
DTEND;TZID=Europe/Berlin:20230924T235959
DTSTAMP:20260423T215751
CREATED:20230424T113819Z
LAST-MODIFIED:20230623T081639Z
UID:14196-1695254400-1695599999@www.mbi-geodata.com
SUMMARY:NUFAM Trade Fair 2023
DESCRIPTION:NUFAM is considered one of the leading trade fairs of the commercial vehicle sector. NUFAM 2023 is particularly aimed at haulage companies\, logistics providers\, tradesmen and municipal businesses. But the industry and professional drivers themselves will also be in focus at the trade fair. We are already looking forward to visiting the trade fair and exchanging experiences on site about the latest developments in the industry. We will be happy to present our MBI portfolio solutions and the HERE Distributor portfolio for supply chain management to visitors. \n\n\n\n\nshare
URL:https://www.mbi-geodata.com/en/event/nufam-trade-fair-2023/
LOCATION:Messe Karlsruhe\, Messeallee 1\, Rheinstetten\, 76287\, Germany
ATTACH;FMTTYPE=image/jpeg:https://www.mbi-geodata.com/en/wp-content/uploads/sites/3/2023/05/Truck.jpg
END:VEVENT
END:VCALENDAR