BEGIN:VCALENDAR
VERSION:2.0
PRODID:-//MBI Worldwide Geodata - ECPv6.15.20//NONSGML v1.0//EN
CALSCALE:GREGORIAN
METHOD:PUBLISH
X-WR-CALNAME:MBI Worldwide Geodata
X-ORIGINAL-URL:https://www.mbi-geodata.com/en
X-WR-CALDESC:Events for MBI Worldwide Geodata
REFRESH-INTERVAL;VALUE=DURATION:PT1H
X-Robots-Tag:noindex
X-PUBLISHED-TTL:PT1H
BEGIN:VTIMEZONE
TZID:Europe/Berlin
BEGIN:DAYLIGHT
TZOFFSETFROM:+0100
TZOFFSETTO:+0200
TZNAME:CEST
DTSTART:20220327T010000
END:DAYLIGHT
BEGIN:STANDARD
TZOFFSETFROM:+0200
TZOFFSETTO:+0100
TZNAME:CET
DTSTART:20221030T010000
END:STANDARD
BEGIN:DAYLIGHT
TZOFFSETFROM:+0100
TZOFFSETTO:+0200
TZNAME:CEST
DTSTART:20230326T010000
END:DAYLIGHT
BEGIN:STANDARD
TZOFFSETFROM:+0200
TZOFFSETTO:+0100
TZNAME:CET
DTSTART:20231029T010000
END:STANDARD
BEGIN:DAYLIGHT
TZOFFSETFROM:+0100
TZOFFSETTO:+0200
TZNAME:CEST
DTSTART:20240331T010000
END:DAYLIGHT
BEGIN:STANDARD
TZOFFSETFROM:+0200
TZOFFSETTO:+0100
TZNAME:CET
DTSTART:20241027T010000
END:STANDARD
END:VTIMEZONE
BEGIN:VEVENT
DTSTART;TZID=Europe/Berlin:20230710T080000
DTEND;TZID=Europe/Berlin:20230714T170000
DTSTAMP:20260424T003441
CREATED:20230130T104449Z
LAST-MODIFIED:20230606T100222Z
UID:13971-1688976000-1689354000@www.mbi-geodata.com
SUMMARY:Esri UC 2023
DESCRIPTION:The Esri User Conference is the world’s largest GIS conference. Once again this year\, we are very excited to attend as an exhibitor and partner and to present our constantly evolving global data spectrum on socio-demographics\, purchasing power\, area boudaries\, mobile trace and political risk\, as well as the HERE portfolio. Get your questions answered and discover our GIS-based products and services. \n\n\n\n\n\n\n\n\n\n\n\n\n\n\n\n\n\n\n\n\n\n\n\nRay Roberts-York and Andreas Wenzel (pictured from left to right) will be representing MBI at Esri UC 2023 and look forward to catching up with you if you are also planning a visit. You can make an appointment via the button or visit us spontaneously at booth 326. \n\n\n\n\nSchedule a Meeting\n\n\n\n\n\n\n\n\n\n\n\n\n\n\n\n\n\nshare
URL:https://www.mbi-geodata.com/en/event/esri-user-conference-2023/
LOCATION:San Diego Convention Center\, 111 W. Harbor Drive\, San Diego\, California\, 92101\, United States
ATTACH;FMTTYPE=image/jpeg:https://www.mbi-geodata.com/en/wp-content/uploads/sites/3/2023/05/Esri_UC_2023.jpg
END:VEVENT
END:VCALENDAR