BEGIN:VCALENDAR
VERSION:2.0
PRODID:-//MBI Worldwide Geodata - ECPv6.15.20//NONSGML v1.0//EN
CALSCALE:GREGORIAN
METHOD:PUBLISH
X-WR-CALNAME:MBI Worldwide Geodata
X-ORIGINAL-URL:https://www.mbi-geodata.com/en
X-WR-CALDESC:Events for MBI Worldwide Geodata
REFRESH-INTERVAL;VALUE=DURATION:PT1H
X-Robots-Tag:noindex
X-PUBLISHED-TTL:PT1H
BEGIN:VTIMEZONE
TZID:Europe/Berlin
BEGIN:DAYLIGHT
TZOFFSETFROM:+0100
TZOFFSETTO:+0200
TZNAME:CEST
DTSTART:20220327T010000
END:DAYLIGHT
BEGIN:STANDARD
TZOFFSETFROM:+0200
TZOFFSETTO:+0100
TZNAME:CET
DTSTART:20221030T010000
END:STANDARD
BEGIN:DAYLIGHT
TZOFFSETFROM:+0100
TZOFFSETTO:+0200
TZNAME:CEST
DTSTART:20230326T010000
END:DAYLIGHT
BEGIN:STANDARD
TZOFFSETFROM:+0200
TZOFFSETTO:+0100
TZNAME:CET
DTSTART:20231029T010000
END:STANDARD
BEGIN:DAYLIGHT
TZOFFSETFROM:+0100
TZOFFSETTO:+0200
TZNAME:CEST
DTSTART:20240331T010000
END:DAYLIGHT
BEGIN:STANDARD
TZOFFSETFROM:+0200
TZOFFSETTO:+0100
TZNAME:CET
DTSTART:20241027T010000
END:STANDARD
END:VTIMEZONE
BEGIN:VEVENT
DTSTART;TZID=Europe/Berlin:20230509T140000
DTEND;TZID=Europe/Berlin:20230509T150000
DTSTAMP:20260424T031851
CREATED:20230425T081239Z
LAST-MODIFIED:20230505T083418Z
UID:14202-1683640800-1683644400@www.mbi-geodata.com
SUMMARY:Webinar: Introduction to HERE Maps API for JavaScript - Unlock the Power of Location Intelligence
DESCRIPTION:Join us for a webinar that will provide an overview of the HERE Maps API for JavaScript\, a powerful tool for integrating location-based services and capabilities into your web applications. This webinar is designed for everyone who wants to discover how to leverage the full potential of location intelligence for their applications.This webinar covers: \n\n\n\n\nIntroduction to the integration of location services (map\, geocoding\, routing) and easy-to-use examples\n\n\n\nThe benefits of upgrading to the new platform location services\n\n\n\nInsights into selecting the best map rendering service or engine for your use case\n\n\n\nHow to customize your map appearance with the HERE Style Editor\n\n\n\nLive demo of the solution from our partner Impargo\n\n\n\n\nWhether you are new to location-based services or have experience with other mapping platforms\, this webinar will provide valuable insights into how HERE Maps API for JavaScript can help you create more innovative and dynamic solutions. Don’t miss this opportunity to unlock the power of location intelligence in your development projects! \n\n\n\n\n\n\nshare
URL:https://www.mbi-geodata.com/en/event/webinar-introduction-to-here-maps-api-for-javascript-unlock-the-power-of-location-intelligence/
ATTACH;FMTTYPE=image/jpeg:https://www.mbi-geodata.com/en/wp-content/uploads/sites/3/2023/05/HERE_Location_Services.jpg
END:VEVENT
BEGIN:VEVENT
DTSTART;TZID=Europe/Berlin:20230511T000000
DTEND;TZID=Europe/Berlin:20230511T235959
DTSTAMP:20260424T031851
CREATED:20230419T091045Z
LAST-MODIFIED:20230505T084946Z
UID:14169-1683763200-1683849599@www.mbi-geodata.com
SUMMARY:Transport Logistic Trade Fair
DESCRIPTION:The transport logistic trade fair is considered one of the leading trade fairs for logistics\, mobility\, IT and supply chain management. HERE will be participating as an exhibitor in Munich in 2023\, and we will actively support our partner as a HERE distributor on 11 May. The trade fair is dedicated to various major topics of the logistics industry. We are proud to be able to present our solution partner network as well as our MBI portfolio for supply chain management and HERE Distributor portfolio for efficient systems of the future to the visitors. \n\n\n\n\n\nWe are happy to be available for meetings! Just come by the booth or use the button to make an appointment with us in advance. \n\n\n\n\n\n\nSchedule a Meeting\n\n\n\n\n\n\n\nshare
URL:https://www.mbi-geodata.com/en/event/transport-logistic-trade-fair/
LOCATION:ICM – Internationales Congress Center München\, Messegelände\, Munich\, Bayern\, 81823\, Germany
ATTACH;FMTTYPE=image/jpeg:https://www.mbi-geodata.com/en/wp-content/uploads/sites/3/2023/05/Logistics.jpg
END:VEVENT
END:VCALENDAR