BEGIN:VCALENDAR
VERSION:2.0
PRODID:-//MBI Worldwide Geodata - ECPv6.15.20//NONSGML v1.0//EN
CALSCALE:GREGORIAN
METHOD:PUBLISH
X-WR-CALNAME:MBI Worldwide Geodata
X-ORIGINAL-URL:https://www.mbi-geodata.com/en
X-WR-CALDESC:Events for MBI Worldwide Geodata
REFRESH-INTERVAL;VALUE=DURATION:PT1H
X-Robots-Tag:noindex
X-PUBLISHED-TTL:PT1H
BEGIN:VTIMEZONE
TZID:Europe/Berlin
BEGIN:DAYLIGHT
TZOFFSETFROM:+0100
TZOFFSETTO:+0200
TZNAME:CEST
DTSTART:20220327T010000
END:DAYLIGHT
BEGIN:STANDARD
TZOFFSETFROM:+0200
TZOFFSETTO:+0100
TZNAME:CET
DTSTART:20221030T010000
END:STANDARD
BEGIN:DAYLIGHT
TZOFFSETFROM:+0100
TZOFFSETTO:+0200
TZNAME:CEST
DTSTART:20230326T010000
END:DAYLIGHT
BEGIN:STANDARD
TZOFFSETFROM:+0200
TZOFFSETTO:+0100
TZNAME:CET
DTSTART:20231029T010000
END:STANDARD
BEGIN:DAYLIGHT
TZOFFSETFROM:+0100
TZOFFSETTO:+0200
TZNAME:CEST
DTSTART:20240331T010000
END:DAYLIGHT
BEGIN:STANDARD
TZOFFSETFROM:+0200
TZOFFSETTO:+0100
TZNAME:CET
DTSTART:20241027T010000
END:STANDARD
END:VTIMEZONE
BEGIN:VEVENT
DTSTART;TZID=Europe/Berlin:20230426T000000
DTEND;TZID=Europe/Berlin:20230426T235959
DTSTAMP:20260424T044449
CREATED:20230420T115340Z
LAST-MODIFIED:20230420T115548Z
UID:14182-1682467200-1682553599@www.mbi-geodata.com
SUMMARY:LogiMAT Trade Fair
DESCRIPTION:Will we see you this year at the largest annual intralogistics trade fair in Europe? We will be on site in Stuttgart at the LogiMAT trade fair on 26 April. We are looking forward to visiting the booths of our partners there. Why don’t you stop by and talk to the software and logistics experts from Körber\, ABONA\, mobileX and Wolf Software? \n\n\n\n\n\n\n\n\n\n\nKörber: Hall 1\, Booth 1C34 and Hall 8\, Booth 8D70 \n\n\n\n\n\n\n\n\n\n\n\n\nmobileX as part of the Solvares Group: Hall 8\, Booth F61 \n\n\n\n\n\n\n\n\n\n\n\n\nABONA: Hall 5\, Booth 5G16 \n\n\n\n\n\n\n\n\n\n\n\n\nWolf Software \n\n\n\n\n\n\n\nFeel free to utilize our contact form to schedule a meeting with us ahead of time for LogiMAT. We’re eagerly looking forward to conversing with you! \n\n\n\n\n\n\nSchedule a Meeting\n\n\n\n\n\n\n\nshare
URL:https://www.mbi-geodata.com/en/event/logimat-trade-fair-2023/
LOCATION:Messe Stuttgart\, Messepiazza 1\, Stuttgart\, Baden-Württemberg\, 70629\, Germany
END:VEVENT
END:VCALENDAR