BEGIN:VCALENDAR
VERSION:2.0
PRODID:-//MBI Worldwide Geodata - ECPv6.15.20//NONSGML v1.0//EN
CALSCALE:GREGORIAN
METHOD:PUBLISH
X-WR-CALNAME:MBI Worldwide Geodata
X-ORIGINAL-URL:https://www.mbi-geodata.com/en
X-WR-CALDESC:Events for MBI Worldwide Geodata
REFRESH-INTERVAL;VALUE=DURATION:PT1H
X-Robots-Tag:noindex
X-PUBLISHED-TTL:PT1H
BEGIN:VTIMEZONE
TZID:Europe/Berlin
BEGIN:DAYLIGHT
TZOFFSETFROM:+0100
TZOFFSETTO:+0200
TZNAME:CEST
DTSTART:20210328T010000
END:DAYLIGHT
BEGIN:STANDARD
TZOFFSETFROM:+0200
TZOFFSETTO:+0100
TZNAME:CET
DTSTART:20211031T010000
END:STANDARD
BEGIN:DAYLIGHT
TZOFFSETFROM:+0100
TZOFFSETTO:+0200
TZNAME:CEST
DTSTART:20220327T010000
END:DAYLIGHT
BEGIN:STANDARD
TZOFFSETFROM:+0200
TZOFFSETTO:+0100
TZNAME:CET
DTSTART:20221030T010000
END:STANDARD
BEGIN:DAYLIGHT
TZOFFSETFROM:+0100
TZOFFSETTO:+0200
TZNAME:CEST
DTSTART:20230326T010000
END:DAYLIGHT
BEGIN:STANDARD
TZOFFSETFROM:+0200
TZOFFSETTO:+0100
TZNAME:CET
DTSTART:20231029T010000
END:STANDARD
END:VTIMEZONE
BEGIN:VEVENT
DTSTART;TZID=Europe/Berlin:20220711T000000
DTEND;TZID=Europe/Berlin:20220715T235959
DTSTAMP:20260424T175920
CREATED:20220512T080139Z
LAST-MODIFIED:20220608T111255Z
UID:12838-1657497600-1657929599@www.mbi-geodata.com
SUMMARY:Esri User Conference 2022
DESCRIPTION:The Esri User Conference is the world’s largest GIS conference. After 2 years in which the Esri UC could not take place as a physical event\, we are very excited to finally be able to exchange with other geospatial data enthusiasts on site in San Diego again! As an exhibitor and partner\, we will proudly present our global data spectrum\, which we have been continuously developing. \n\n\n\n\n\nIf you are also planning to visit the Esri User Conference 2022 and want to have a chat\, you can schedule a meeting through the button or visit us spontaneously at booth 426. We are looking forward to meeting you there! \n\n\n\n\n\n\nSchedule a meeting\n\n\n\n\n\n\n\n\n\n\n\nshare
URL:https://www.mbi-geodata.com/en/event/esri-user-conference-2022/
LOCATION:San Diego Convention Center\, 111 W. Harbor Drive\, San Diego\, California\, 92101\, United States
ATTACH;FMTTYPE=image/png:https://www.mbi-geodata.com/en/wp-content/uploads/sites/3/2022/05/Esri-UC-Exhibitor-2022.png
END:VEVENT
END:VCALENDAR