BEGIN:VCALENDAR
VERSION:2.0
PRODID:-//MBI Worldwide Geodata - ECPv6.15.20//NONSGML v1.0//EN
CALSCALE:GREGORIAN
METHOD:PUBLISH
X-ORIGINAL-URL:https://www.mbi-geodata.com/en
X-WR-CALDESC:Events for MBI Worldwide Geodata
REFRESH-INTERVAL;VALUE=DURATION:PT1H
X-Robots-Tag:noindex
X-PUBLISHED-TTL:PT1H
BEGIN:VTIMEZONE
TZID:Europe/Berlin
BEGIN:DAYLIGHT
TZOFFSETFROM:+0100
TZOFFSETTO:+0200
TZNAME:CEST
DTSTART:20230326T010000
END:DAYLIGHT
BEGIN:STANDARD
TZOFFSETFROM:+0200
TZOFFSETTO:+0100
TZNAME:CET
DTSTART:20231029T010000
END:STANDARD
BEGIN:DAYLIGHT
TZOFFSETFROM:+0100
TZOFFSETTO:+0200
TZNAME:CEST
DTSTART:20240331T010000
END:DAYLIGHT
BEGIN:STANDARD
TZOFFSETFROM:+0200
TZOFFSETTO:+0100
TZNAME:CET
DTSTART:20241027T010000
END:STANDARD
BEGIN:DAYLIGHT
TZOFFSETFROM:+0100
TZOFFSETTO:+0200
TZNAME:CEST
DTSTART:20250330T010000
END:DAYLIGHT
BEGIN:STANDARD
TZOFFSETFROM:+0200
TZOFFSETTO:+0100
TZNAME:CET
DTSTART:20251026T010000
END:STANDARD
BEGIN:DAYLIGHT
TZOFFSETFROM:+0100
TZOFFSETTO:+0200
TZNAME:CEST
DTSTART:20260329T010000
END:DAYLIGHT
BEGIN:STANDARD
TZOFFSETFROM:+0200
TZOFFSETTO:+0100
TZNAME:CET
DTSTART:20261025T010000
END:STANDARD
BEGIN:DAYLIGHT
TZOFFSETFROM:+0100
TZOFFSETTO:+0200
TZNAME:CEST
DTSTART:20270328T010000
END:DAYLIGHT
BEGIN:STANDARD
TZOFFSETFROM:+0200
TZOFFSETTO:+0100
TZNAME:CET
DTSTART:20271031T010000
END:STANDARD
END:VTIMEZONE
BEGIN:VEVENT
DTSTART;TZID=Europe/Berlin:20241106T000000
DTEND;TZID=Europe/Berlin:20241107T235959
DTSTAMP:20260423T021531
CREATED:20241022T110303Z
LAST-MODIFIED:20241023T111256Z
UID:17881-1730851200-1731023999@www.mbi-geodata.com
SUMMARY:MBI at HERE Directions 2024
DESCRIPTION:Join Us in Building a Connected and Sustainable Future with Location Technology \n\n\n\nMBI is excited to announce that we will be attending HERE Directions 2024 as a proud HERE partner and distributor! This highly anticipated event will take place on November 6-7\, 2024\, in Dreieich\, Frankfurt am Main\, and promises to showcase the latest innovations in location technology. \n\n\n\nAs one of the largest providers of geodata and a long-standing HERE distributor\, we are eager to connect with industry experts and professionals at the forefront of location technology. Meet us there\, and we will help you explore tailored solutions for your business using the latest HERE technologies. \n\n\n\nWhy attend HERE Directions 2024? \n\n\n\n\nInspiring keynotes: hear from high-profile speakers on trending topics such as software-defined vehicles\, end-to-end logistics planning and the electrification of mobility\n\n\n\nNetworking opportunities: engage with industry peers\, HERE executives and experts during our networking lunch and dedicated sessions\n\n\n\nLive demos: experience firsthand the cutting-edge technologies that are driving innovation\, with live demos from HERE\, our partners and real-world customer success stories\n\n\n\n\nDon’t miss: \n\n\n\n… the Panel Discussion\, where our CEO\, Ray Roberts-York\, will join other experts to explore the transformative role of AI in location technology and how it’s driving innovation across the industry. \n\n\n\n… the Partner Workshop: On November 7\, from 14:30-16:00\, MBI will participate in the Partner Workshop\, where you’ll get updates on HERE’s Partner Program\, learn about innovative solutions built with HERE technology\, and hear success stories from leading partners. \n\n\n\n\n\n \n\n\n\n\n\n \nshare
URL:https://www.mbi-geodata.com/en/event/mbi-at-here-directions-2024/
LOCATION:area3\, Hans Strothoff Platz 1\, Dreieich\, 63303\, Germany
ATTACH;FMTTYPE=image/jpeg:https://www.mbi-geodata.com/en/wp-content/uploads/sites/3/2024/10/HERE_directions_team.jpeg
END:VEVENT
BEGIN:VEVENT
DTSTART;TZID=Europe/Berlin:20241114T000000
DTEND;TZID=Europe/Berlin:20241114T235959
DTSTAMP:20260423T021531
CREATED:20241024T105958Z
LAST-MODIFIED:20241030T113626Z
UID:17897-1731542400-1731628799@www.mbi-geodata.com
SUMMARY:GeoBuiz Summit 2024
DESCRIPTION:We are looking forward to the GeoBuiz Summit Europe 2024 on 14 November at Novotel\, Amsterdam! This exclusive event\, themed “Powering the Geo-Space Economy\,” brings together top C-level executives from across the European geospatial industry to explore new market opportunities and innovations. Our CEO Ray Roberts-York is looking forward to connecting with industry peers and exploring how we can contribute to shaping the future of the Geo-Space Economy. See you there! \n\n\n\n\n\n \n\n\n\n\n\n \nshare
URL:https://www.mbi-geodata.com/en/event/geobuiz-summit-2024/
LOCATION:Hotel Novotel Amsterdam City\, Europaboulevard 10\, Amsterdam\, 1083 AD
ATTACH;FMTTYPE=image/jpeg:https://www.mbi-geodata.com/en/wp-content/uploads/sites/3/2024/10/GeoBuiz_2024.jpg
END:VEVENT
BEGIN:VEVENT
DTSTART;TZID=Europe/Berlin:20241127T000000
DTEND;TZID=Europe/Berlin:20241128T235959
DTSTAMP:20260423T021531
CREATED:20241030T113017Z
LAST-MODIFIED:20241030T113428Z
UID:17913-1732665600-1732838399@www.mbi-geodata.com
SUMMARY:Esri Conference 2024
DESCRIPTION:MBI is excited to attend the Esri Conference 2024\, the largest German-speaking GIS conference! Our team looks forward to connecting with industry experts and showcasing how our advanced geodata offering can enhance your GIS and Location Intelligence needs. Join us to discover the latest developments in Mapping\, Spatial Analytics\, GeoAI\, 3D-GIS\, and Digital Twins. Whether you’re interested in learning about new data solutions or discussing industry trends\, we’re eager to meet and collaborate with you in Bonn. See you there! \n\n\n\n\n\n \n\n\n\n\n\n \nshare
URL:https://www.mbi-geodata.com/en/event/esri-conference-2024/
LOCATION:World Conference Center Bonn\, Platz d. Vereinten Nationen 2\, Bonn\, 53113\, Germany
ATTACH;FMTTYPE=image/jpeg:https://www.mbi-geodata.com/en/wp-content/uploads/sites/3/2024/10/Esri_Konferenz_2024.jpg
END:VEVENT
BEGIN:VEVENT
DTSTART;TZID=Europe/Berlin:20250427T000000
DTEND;TZID=Europe/Berlin:20250429T235959
DTSTAMP:20260423T021531
CREATED:20250124T122754Z
LAST-MODIFIED:20250124T122917Z
UID:17994-1745712000-1745971199@www.mbi-geodata.com
SUMMARY:Enterprise Location Intelligence Summit (ELIS) 2025
DESCRIPTION:MBI is pleased to announce that our Managing Director Ray Roberts-York and Sales Director Andreas Wenzel will be attending the Enterprise Location Intelligence Summit (ELIS) in Quebec\, Canada from April 27-29. The three-day event will take place at the prestigious Château Frontenac and will bring together leading experts from various industries to discuss the latest developments in location intelligence and artificial intelligence. \n\n\n\nRay and Andreas are looking forward to attending the presentations and discussions\, and sharing ideas about the future of location technologies. They will be available to meet with partners and customers to discuss current projects and future collaborations. \n\n\n\n\n\nIf you would like to make an appointment with Ray or Andreas during the event\, please use the button. \n\n\n\n\n\n\nSchedule a Meeting\n\n\n\n\n\n\n\n\n \n\n\n\n\n\n \nshare
URL:https://www.mbi-geodata.com/en/event/enterprise-location-intelligence-summit-elis-2025/
LOCATION:Château Frontenac\, 1 Rue des Carrières\, Québec\, QC G1R 4P5\, Canada
ATTACH;FMTTYPE=image/jpeg:https://www.mbi-geodata.com/en/wp-content/uploads/sites/3/2025/01/ELIS_Chateau_Frontenac.jpg
END:VEVENT
BEGIN:VEVENT
DTSTART;TZID=Europe/Berlin:20250624T110000
DTEND;TZID=Europe/Berlin:20250624T120000
DTSTAMP:20260423T021531
CREATED:20250530T093815Z
LAST-MODIFIED:20250530T093819Z
UID:19090-1750762800-1750766400@www.mbi-geodata.com
SUMMARY:Webinar: Unlock the Power of HERE Professional Services
DESCRIPTION:Join our upcoming webinar to discover how HERE Professional Services can help you build\, scale\, and optimize location-based solutions with confidence. \n\n\n\nWhether you’re developing a new application or enhancing an existing one\, Ivan Ivanovic\, Director Professional Services at HERE Technologies\, will introduce you to the full service spectrum – from advisory and solution design to deployment\, testing\, and operations. \n\n\n\nWhat you’ll learn: \n\n\n\n\nHow to accelerate your time-to-value\n\n\n\nWays to boost development velocity\n\n\n\nBest practices for co-innovation with HERE\n\n\n\nWhat to outsource – and when\n\n\n\nHow to choose the right services for long-term growth\n\n\n\n\nMore than just technical support\, HERE Professional Services is your strategic partner for innovation\, scalability\, and success. \n\n\n\nDon’t miss out – save your seat for June 24\, 2025 at 11:00 AM CEST! \n\n\n\n\n\n \nshare
URL:https://www.mbi-geodata.com/en/event/webinar-unlock-the-power-of-here-professional-services/
ATTACH;FMTTYPE=image/jpeg:https://www.mbi-geodata.com/en/wp-content/uploads/sites/3/2025/05/Lego.jpg
END:VEVENT
BEGIN:VEVENT
DTSTART;TZID=Europe/Berlin:20250714T000000
DTEND;TZID=Europe/Berlin:20250718T235959
DTSTAMP:20260423T021531
CREATED:20250130T101016Z
LAST-MODIFIED:20250612T122024Z
UID:18004-1752451200-1752883199@www.mbi-geodata.com
SUMMARY:Esri User Conference 2025
DESCRIPTION:MBI is excited to participate as an exhibitor at the Esri User Conference 2025\, taking place from July 14 to July 18\, 2025\, at the San Diego Convention Center\, California. \n\n\n\nThe Esri User Conference is the world’s largest geographic information systems (GIS) event. It brings together thousands of professionals from a variety of industries to learn about the latest developments\, technologies\, and applications in GIS and location intelligence. \n\n\n\n\n\n\n\n\n\n\n\n\n\n\n\n\n\n\n\nWhy You Should Attend the Esri User Conference:\n\n\n\n\nInspiring Keynotes: Hear from leading industry experts.\n\n\n\nInnovations & Trends: Discover the latest GIS tools\, analysis methods\, and applications.\n\n\n\nNetworking: Connect with experts\, researchers\, and industry leaders from around the world.\n\n\n\n\n\n\nVisit Our Booth:\n\n\n\n\n\nAs a specialist in location data and geomarketing\, MBI will be showcasing its ever-growing global data portfolio\, including socio-demographics\, purchasing power\, area boundaries\, mobile trace and political risk\, as well as the HERE portfolio.Our experts will demonstrate how you can use data as a valuable decision-making tool and gain a competitive advantage with accurate maps and market data. \n\n\n\n\n\nWe look forward to welcoming you to our stand 825 and discussing your specific needs\, projects and questions. You can use the button to arrange a meeting or just drop by our stand. \n\n\n\n\nSchedule a Meeting\n\n\n\n\n\n\n\n\n \n\n\n\n\n\n \n\n\n\n \nshare
URL:https://www.mbi-geodata.com/en/event/esri-user-conference-2025-in-san-diego/
LOCATION:San Diego Convention Center\, 111 W. Harbor Drive\, San Diego\, California\, 92101\, United States
ATTACH;FMTTYPE=image/jpeg:https://www.mbi-geodata.com/en/wp-content/uploads/sites/3/2025/01/Esri-UC-Day-1.jpg
END:VEVENT
BEGIN:VEVENT
DTSTART;TZID=Europe/Berlin:20251008T000000
DTEND;TZID=Europe/Berlin:20251009T235959
DTSTAMP:20260423T021531
CREATED:20250828T101544Z
LAST-MODIFIED:20250828T101548Z
UID:19374-1759881600-1760054399@www.mbi-geodata.com
SUMMARY:HERE Directions 2025
DESCRIPTION:MBI is delighted to once again participate in HERE Directions 2025 as a longstanding HERE Partner and Distributor! This highly anticipated event will take place on October 8 – 9\, 2025\, at area3 in Dreieich near Frankfurt am Main\, showcasing the latest innovations in automotive and logistics. \n\n\n\nOver the course of two dynamic days\, you can expect: \n\n\n\n\nKeynotes & Panel Discussions on future-defining topics such as AI\, software-defined vehicles\, supply chain optimization\, and sustainable mobility.\n\n\n\nInteractive Live Demos from HERE\, partners\, and clients\, featuring exciting real-world applications.\n\n\n\nNetworking with industry experts\, decision-makers\, and data enthusiasts from around the globe.\n\n\n\n\n\n\nWe look forward to connecting with you in person to demonstrate how we can collaboratively develop innovative\, customized solutions. Feel free to use the button on our site to schedule a meeting with us. \n\n\n\n\n\n\nTermin vereinbaren\n\n\n\n\n\n\n\nshare
URL:https://www.mbi-geodata.com/en/event/here-directions-2025/
LOCATION:area3\, Hans Strothoff Platz 1\, Dreieich\, 63303\, Germany
ATTACH;FMTTYPE=image/jpeg:https://www.mbi-geodata.com/en/wp-content/uploads/sites/3/2025/08/HERE-Directions-MBI-edited.jpg
END:VEVENT
BEGIN:VEVENT
DTSTART;TZID=Europe/Berlin:20260326T110000
DTEND;TZID=Europe/Berlin:20260326T120000
DTSTAMP:20260423T021531
CREATED:20260323T094104Z
LAST-MODIFIED:20260323T104747Z
UID:20223-1774522800-1774526400@www.mbi-geodata.com
SUMMARY:Webinar: Looking Back to Look Ahead: How 2025 Shapes Today’s Conflict Landscape
DESCRIPTION:The global conflict landscape has become increasingly tense in recent years\, and many developments in 2026 took decision-makers by surprise. Yet conflicts rarely arise abruptly: escalations often build up over the course of years. Those who had already conducted a structured analysis of conflict-related developments in 2025 were able to devise strategic measures to prepare for the escalation in 2026. \n\n\n\nIt is not too late to prepare for conflicts in 2026! Join us in looking back at the year 2025 to better understand and contextualize current dynamics. \n\n\n\nIn this webinar\, we will examine key findings from our Global Security Balance Sheet 2025 and place them within the current geopolitical context. We will demonstrate: \n\n\n\n\nwhich conflict developments particularly shaped the year 2025\n\n\n\nwhich global and regional patterns of escalation can be identified\n\n\n\nhow the dynamics of the past year influence the current situation\n\n\n\nhow data-driven analyses can contribute to informed political risk decisions\n\n\n\n\nRegister now and gain concise insights into current conflict dynamics and their significance for your risk analyses. \n\n\n\n\n\n \nshare
URL:https://www.mbi-geodata.com/en/event/webinar-looking-back-to-look-ahead-how-2025-shapes-todays-conflict-landscape/
ATTACH;FMTTYPE=image/png:https://www.mbi-geodata.com/en/wp-content/uploads/sites/3/2026/03/Dashboard-Desktop.png
END:VEVENT
BEGIN:VEVENT
DTSTART;TZID=Europe/Berlin:20260609T000000
DTEND;TZID=Europe/Berlin:20260610T235959
DTSTAMP:20260423T021531
CREATED:20260327T115630Z
LAST-MODIFIED:20260409T114623Z
UID:20246-1780963200-1781135999@www.mbi-geodata.com
SUMMARY:SoS.26 - Sustainability osapiens Summit 2026
DESCRIPTION:Sustainability\, supply chain transparency\, and new regulatory requirements are increasingly creating complex challenges for companies. Reliable data is a key prerequisite for making informed decisions—whether in site selection\, supply chain management\, or infrastructure planning. \n\n\n\nAt SoS.26\, osapiens brings together more than 2\,000 industry leaders to discuss strategies for greater transparency\, efficiency\, and sustainable growth. At our booth\, we will demonstrate how international geodata\, mobility data\, and HERE solutions can support sustainability goals through data-driven approaches—for example in logistics planning\, sustainability controlling\, and the assessment of global supply chains. \n\n\n\nWe look forward to meeting you in Mannheim \n\n\n\n\n\n \nshare
URL:https://www.mbi-geodata.com/en/event/sos-26-sustainability-osapiens-summit-2026/
ATTACH;FMTTYPE=image/jpeg:https://www.mbi-geodata.com/en/wp-content/uploads/sites/3/2026/03/SoS_26.jpg
END:VEVENT
BEGIN:VEVENT
DTSTART;TZID=Europe/Berlin:20260713T000000
DTEND;TZID=Europe/Berlin:20260717T235959
DTSTAMP:20260423T021531
CREATED:20260324T082754Z
LAST-MODIFIED:20260324T083403Z
UID:20229-1783900800-1784332799@www.mbi-geodata.com
SUMMARY:Esri UC 2026
DESCRIPTION:MBI will once again be participating in the Esri User Conference in San Diego in 2026—the world’s largest event in the field of GIS and geoinformation applications. Every year\, the conference brings together thousands of experts and users from the geospatial industry around the world to discuss the latest developments\, technologies\, and best practices in location intelligence. \n\n\n\n\n\n\n\n\n\n\n\n\n\n\n\n\n\n\n\nVisit MBI at Esri UC 2026 to learn more about our international data portfolio covering sociodemographics\, purchasing power\, area boundaries\, mobile trace data\, and conflict risks. We’ll show you how our datasets can be seamlessly integrated into GIS workflows and support data-driven location decisions. \n\n\n\nThis is your chance to meet our team in person and find new ideas for your projects in location analysis and geodata. \n\n\n\n\n\n\n\n \n\n\n\n \nshare
URL:https://www.mbi-geodata.com/en/event/esri-uc-2026/
ATTACH;FMTTYPE=image/jpeg:https://www.mbi-geodata.com/en/wp-content/uploads/sites/3/2026/03/ESRI_UC_Stage.jpg
END:VEVENT
END:VCALENDAR